BEGIN:VCALENDAR
VERSION:2.0
PRODID:-//Trawler-Calendar-Tool 0.2
METHOD:PUBLISH
BEGIN:VTIMEZONE
TZID:Europe/Berlin
BEGIN:STANDARD
TZNAME:CET
DTSTART:20100101T010000
RRULE:FREQ=YEARLY;BYDAY=-1SU;BYMONTH=10
TZOFFSETFROM:+0200
TZOFFSETTO:+0100
END:STANDARD
BEGIN:DAYLIGHT
TZNAME:CEST
DTSTART:20100101T010000
RRULE:FREQ=YEARLY;BYDAY=-1SU;BYMONTH=3
TZOFFSETFROM:+0100
TZOFFSETTO:+0200
END:DAYLIGHT
END:VTIMEZONE
X-WR-TIMEZONE:Europe/Berlin
X-ORIGINAL-URL:https://www.spd-breisgau-hochschwarzwald.de/termine/
BEGIN:VEVENT
DTSTART;TZID=Europe/Berlin:20260509T100000
DTEND;TZID=Europe/Berlin:20260509T140000
LOCATION:Donaueschingen
SUMMARY:Regionalkonferenz Südbaden
DESCRIPTION:Am Samstag\, 09.05.2026 
 in der Zeit von 10.0 - 14.00 Uhr
 in Donaueschingen
 
 findet unsere Regionalkonferenz statt.
 Die Konferenz in nicht öffentlich.
 
 Die Einladung mit
   dem Anmeldelink haben die Mitglieder per Mail erhalten. Wer keine
   Einladung erhalten hat\, kann sich beim OV-Vorstand oder auch bei uns
   melden.
X-ALT-DESC;FMTTYPE=text/plain:Am Samstag\, 09.05.2026&nbsp\;
 in der Zeit von 10.0 - 14.00 Uhr
 in Donaueschingen
 
 findet unsere Regionalkonferenz statt.
 Die Konferenz in nicht &ouml\;ffentlich.
 
 Die Einladung mit
   dem Anmeldelink haben die Mitglieder per Mail erhalten. Wer keine
   Einladung erhalten hat\, kann sich beim OV-Vorstand oder auch bei uns
   melden.
PRIORITY:5
UID:wscms192951-breisghochschw-0bcd8cd1d351cea3fb74e3bf447da139
URL:https://www.spd-breisgau-hochschwarzwald.de/calendar192951.ics
END:VEVENT
END:VCALENDAR